BEGIN:VCALENDAR
VERSION:2.0
PRODID:-//Urbanonetwork//NONSGML v1.0//EN
METHOD:PUBLISH
BEGIN:VEVENT
UID:urbanonetwork-event-512
DTSTAMP:20140924T160000Z
ORGANIZER;CN=Andre Lecointe-Gayle:MAILTO:andre.lecointe@gmail.com
STATUS:CONFIRMED
DTSTART:20140924T160000Z
DTEND:20140924T180000Z
LAST-MODIFIED:20161224T191405Z
LOCATION:The Work Foundation, 21 Palmer Street, London, SW1H 0AD
SUMMARY:London Fusion Networking for Creative and Digital SMEs
URL:https://www.urbanonetwork.co.uk/london-networking-events/512/2014/09/24/london-fusion-networking-for-creative-and-digital-smes
DESCRIPTION:
END:VEVENT
END:VCALENDAR