BEGIN:VCALENDAR
VERSION:2.0
PRODID:-//Urbanonetwork//NONSGML v1.0//EN
METHOD:PUBLISH
BEGIN:VEVENT
UID:urbanonetwork-event-517
DTSTAMP:20141002T083000Z
ORGANIZER;CN=Jennifer McLaren:MAILTO:jenny@angelnews.co.uk
STATUS:CONFIRMED
DTSTART:20141002T083000Z
DTEND:20141002T103000Z
LAST-MODIFIED:20161224T191405Z
LOCATION:UK British Private Equity &amp; Venture Capital Association, 5th Floor East Chancery House, London, WC2A 1QS
SUMMARY:Fast Track to Angel Investing
URL:https://www.urbanonetwork.co.uk/london-networking-events/517/2014/10/02/fast-track-to-angel-investing
DESCRIPTION:Fast Track to Angel Investing provides an intensive course on the&amp;nbsp;essential foundation for both aspiring and experienced Angel investors and accelerate the journey to successful angel investing.&amp;nbsp;
END:VEVENT
END:VCALENDAR