BEGIN:VCALENDAR
VERSION:2.0
PRODID:-//Urbanonetwork//NONSGML v1.0//EN
METHOD:PUBLISH
BEGIN:VEVENT
UID:urbanonetwork-event-521
DTSTAMP:20141009T170000Z
ORGANIZER;CN=Zoe  Spoor:MAILTO:zoespoor@beatone.co.uk
STATUS:CONFIRMED
DTSTART:20141009T170000Z
DTEND:20141009T190000Z
LAST-MODIFIED:20161224T191405Z
LOCATION:Amber Bar, City Point, London, EC2Y 9AW
SUMMARY:Christmas Showcase at Amber
URL:https://www.urbanonetwork.co.uk/london-networking-events/521/2014/10/09/christmas-showcase-at-amber
DESCRIPTION:Join us for drinks and canapes at our Christmas Showcase on Thursday October 9th and discover how we can help you plan your perfect festive event.
END:VEVENT
END:VCALENDAR