BEGIN:VCALENDAR
VERSION:2.0
PRODID:-//Urbanonetwork//NONSGML v1.0//EN
METHOD:PUBLISH
BEGIN:VEVENT
UID:urbanonetwork-event-572
DTSTAMP:20150212T180000Z
ORGANIZER;CN=Jo James:MAILTO:jojames@amberlife.com
STATUS:CONFIRMED
DTSTART:20150212T180000Z
DTEND:20150212T200000Z
LAST-MODIFIED:20161224T191405Z
LOCATION:5th View Bar, Waterstones - 203 Piccadilly, London, W1J 9HA
SUMMARY:Contacts and Cocktails - facilitated networking evening
URL:https://www.urbanonetwork.co.uk/london-networking-events/572/2015/02/12/contacts-and-cocktails-facilitated-networking-evening
DESCRIPTION:&quot;Contacts and Cocktails&quot; &amp;nbsp;- facilitated networking by Jo James, AmberLife&amp;nbsp;
END:VEVENT
END:VCALENDAR