BEGIN:VCALENDAR
VERSION:2.0
PRODID:-//Urbanonetwork//NONSGML v1.0//EN
METHOD:PUBLISH
BEGIN:VEVENT
UID:urbanonetwork-event-578
DTSTAMP:20150218T123000Z
ORGANIZER;CN=Mark Herring:MAILTO:mark@urbanonetwork.co.uk
STATUS:CONFIRMED
DTSTART:20150218T123000Z
DTEND:20150218T143000Z
LAST-MODIFIED:20161224T191405Z
LOCATION:The Gable, 25 Moorgate, London, EC2R 6AR
SUMMARY:London networking event - networking lunch at The Gable
URL:https://www.urbanonetwork.co.uk/london-networking-events/578/2015/02/18/london-networking-event-networking-lunch-at-the-gable
DESCRIPTION:Urbano&#039;s February networking lunch hosted by The Gable in Moorgate, City of London.
END:VEVENT
END:VCALENDAR