BEGIN:VCALENDAR
VERSION:2.0
PRODID:-//Urbanonetwork//NONSGML v1.0//EN
METHOD:PUBLISH
BEGIN:VEVENT
UID:urbanonetwork-event-59
DTSTAMP:20111129T130000Z
ORGANIZER;CN=Stuart Whitfield:MAILTO:stuart.whitfield@erlang-solutions.com
STATUS:CONFIRMED
DTSTART:20111129T130000Z
DTEND:20111129T150000Z
LAST-MODIFIED:20161224T191403Z
LOCATION:Classic Car Club, 250 Old Street, London, EC1V 9DD
SUMMARY:NoSQL Road Show at the Classic Car Club
URL:https://www.urbanonetwork.co.uk/london-networking-events/59/2011/11/29/nosql-road-show-at-the-classic-car-club
DESCRIPTION:Are you curious about how &quot;the cloud works&quot;?
END:VEVENT
END:VCALENDAR