BEGIN:VCALENDAR
VERSION:2.0
PRODID:-//Urbanonetwork//NONSGML v1.0//EN
METHOD:PUBLISH
BEGIN:VEVENT
UID:urbanonetwork-event-597
DTSTAMP:20150312T173000Z
ORGANIZER;CN=Zoe  Spoor:MAILTO:zoespoor@beatone.co.uk
STATUS:CONFIRMED
DTSTART:20150312T173000Z
DTEND:20150312T193000Z
LAST-MODIFIED:20161224T191405Z
LOCATION:Amber Bar, City Point, London, EC2Y 9AW
SUMMARY:Amber Showcase
URL:https://www.urbanonetwork.co.uk/london-networking-events/597/2015/03/12/amber-showcase
DESCRIPTION:HiGuys, 
END:VEVENT
END:VCALENDAR