BEGIN:VCALENDAR
VERSION:2.0
PRODID:-//Urbanonetwork//NONSGML v1.0//EN
METHOD:PUBLISH
BEGIN:VEVENT
UID:urbanonetwork-event-617
DTSTAMP:20150410T080000Z
ORGANIZER;CN=Julia Northover:MAILTO:Julia@linksva.co.uk
STATUS:CONFIRMED
DTSTART:20150410T080000Z
DTEND:20150410T100000Z
LAST-MODIFIED:20161224T191405Z
LOCATION:116 Pall Mall - Institute of Directors, 116 Pall Mall, London, SW1Y 5ED
SUMMARY:Internet Marketing for SME&#039;s
URL:https://www.urbanonetwork.co.uk/london-networking-events/617/2015/04/10/internet-marketing-for-sme-s
DESCRIPTION:LinksVA is hosting a one day course at the IoD where you will learn how to generate sales and leads from your website. The course tutor will be&amp;nbsp;Damien O&#039;Dwyer&amp;nbsp;from Business Growth. This one day course will arm you with all the information you ne
END:VEVENT
END:VCALENDAR