BEGIN:VCALENDAR
VERSION:2.0
PRODID:-//Urbanonetwork//NONSGML v1.0//EN
METHOD:PUBLISH
BEGIN:VEVENT
UID:urbanonetwork-event-622
DTSTAMP:20150423T110000Z
ORGANIZER;CN=Lady Val:MAILTO:val@ladyvalnetwork.biz
STATUS:CONFIRMED
DTSTART:20150423T110000Z
DTEND:20150423T130000Z
LAST-MODIFIED:20161224T191405Z
LOCATION:Browns Courtrooms, 82-84 St Martin&#039;s Lane, London, WC2N 4AG
SUMMARY:Lady Val&#039;s Professional Women&#039;s Network - April Lunch
URL:https://www.urbanonetwork.co.uk/london-networking-events/622/2015/04/23/lady-val-s-professional-women-s-network-april-lunch
DESCRIPTION:Lady Val&amp;rsquo;s Professional Women&amp;rsquo;s Network would like to invite you along to join us for our lunch on the Thursday 23rdApril.
END:VEVENT
END:VCALENDAR