BEGIN:VCALENDAR
VERSION:2.0
PRODID:-//Urbanonetwork//NONSGML v1.0//EN
METHOD:PUBLISH
BEGIN:VEVENT
UID:urbanonetwork-event-634
DTSTAMP:20150520T073000Z
ORGANIZER;CN=Kay Merryman:MAILTO:kmerryman@abggroup.co.uk
STATUS:CONFIRMED
DTSTART:20150520T073000Z
DTEND:20150520T093000Z
LAST-MODIFIED:20161224T191405Z
LOCATION:Arram Berlyn Gardner (ABG), Arram Berlyn Gardner, London, EC1Y 2AB
SUMMARY:Game changing pension rules
URL:https://www.urbanonetwork.co.uk/london-networking-events/634/2015/05/20/game-changing-pension-rules
DESCRIPTION:The new pension rules, which are game-changing, come into effect on 6 April 2015 and will fundamentally change the way in which individuals are able to access their pension funds.&amp;nbsp;
END:VEVENT
END:VCALENDAR