BEGIN:VCALENDAR
VERSION:2.0
PRODID:-//Urbanonetwork//NONSGML v1.0//EN
METHOD:PUBLISH
BEGIN:VEVENT
UID:urbanonetwork-event-635
DTSTAMP:20150729T073000Z
ORGANIZER;CN=Kay Merryman:MAILTO:kmerryman@abggroup.co.uk
STATUS:CONFIRMED
DTSTART:20150729T073000Z
DTEND:20150729T093000Z
LAST-MODIFIED:20161224T191405Z
LOCATION:Arram Berlyn Gardner (ABG), Arram Berlyn Gardner, London, EC1Y 2AB
SUMMARY:Post Emergency Budget Tax Planning
URL:https://www.urbanonetwork.co.uk/london-networking-events/635/2015/07/29/post-emergency-budget-tax-planning
DESCRIPTION:During his 8 July Budget the Chancellor announced a number of changes that will impact upon business owners receiving dividends, SMEs and individuals with non domicile status. &amp;nbsp;
END:VEVENT
END:VCALENDAR