BEGIN:VCALENDAR
VERSION:2.0
PRODID:-//Urbanonetwork//NONSGML v1.0//EN
METHOD:PUBLISH
BEGIN:VEVENT
UID:urbanonetwork-event-648
DTSTAMP:20150519T131700Z
ORGANIZER;CN=Simon Ellinas:MAILTO:simon@caricatures.org.uk
STATUS:CONFIRMED
DTSTART:20150519T131700Z
DTEND:20150519T151700Z
LAST-MODIFIED:20161224T191405Z
LOCATION:Artfix, 27 Peter Street, London, W1J 0AF
SUMMARY:Cartooning Live in London!
URL:https://www.urbanonetwork.co.uk/london-networking-events/648/2015/05/19/cartooning-live-in-london
DESCRIPTION:I will be &amp;lsquo;performing&amp;rsquo;/drawing a large cartoon montage in the heart of Soho during the week of May 19th - May 25th.
END:VEVENT
END:VCALENDAR