BEGIN:VCALENDAR
VERSION:2.0
PRODID:-//Urbanonetwork//NONSGML v1.0//EN
METHOD:PUBLISH
BEGIN:VEVENT
UID:urbanonetwork-event-660
DTSTAMP:20150531T230000Z
ORGANIZER;CN=Cristina Benson:MAILTO:cbenson2012@btinternet.com
STATUS:CONFIRMED
DTSTART:20150531T230000Z
DTEND:20150601T010000Z
LAST-MODIFIED:20161224T191405Z
LOCATION:Chiswick, Chiswick, London, W4
SUMMARY:EatChiswick food and drink festival
URL:https://www.urbanonetwork.co.uk/london-networking-events/660/2015/06/01/eatchiswick-food-and-drink-festival
DESCRIPTION:EatChiswick is a new food and drink festival for London that will run across Chiswick June 1-8, 2015. Restaurants, bars and shops will be showcasing special menus and creations. And the offers and promotions will be hard to top:
END:VEVENT
END:VCALENDAR