BEGIN:VCALENDAR
VERSION:2.0
PRODID:-//Urbanonetwork//NONSGML v1.0//EN
METHOD:PUBLISH
BEGIN:VEVENT
UID:urbanonetwork-event-661
DTSTAMP:20150608T170000Z
ORGANIZER;CN=Zoe  Spoor:MAILTO:zoespoor@beatone.co.uk
STATUS:CONFIRMED
DTSTART:20150608T170000Z
DTEND:20150608T190000Z
LAST-MODIFIED:20161224T191405Z
LOCATION:Amber Bar, City Point, London, EC2Y 9AW
SUMMARY:We want YOU at our Amber Quiz
URL:https://www.urbanonetwork.co.uk/london-networking-events/661/2015/06/08/we-want-you-at-our-amber-quiz
DESCRIPTION:We have club nights, networking nights, showcase nights and even&amp;nbsp;salsa nights! The one thing we dont have is a quiz night...... Until now. &amp;nbsp;
END:VEVENT
END:VCALENDAR