BEGIN:VCALENDAR
VERSION:2.0
PRODID:-//Urbanonetwork//NONSGML v1.0//EN
METHOD:PUBLISH
BEGIN:VEVENT
UID:urbanonetwork-event-667
DTSTAMP:20151119T183000Z
ORGANIZER;CN=Kevin MacDonald:MAILTO:kevin.macdonald@wirehive.com
STATUS:CONFIRMED
DTSTART:20151119T183000Z
DTEND:20151119T203000Z
LAST-MODIFIED:20161224T191405Z
LOCATION:G Live, London Road, Guildford, GU1 2AA
SUMMARY:Wirehive 100
URL:https://www.urbanonetwork.co.uk/london-networking-events/667/2015/11/19/wirehive-100
DESCRIPTION:We are honoured, thrilled and eager to let you all know the Wirehive 100 will be returning to the South for a fourth year. After a hugely positive response in previous years, and the growing popularity of the event amongst the digital agency crowd, we fel
END:VEVENT
END:VCALENDAR