BEGIN:VCALENDAR
VERSION:2.0
PRODID:-//Urbanonetwork//NONSGML v1.0//EN
METHOD:PUBLISH
BEGIN:VEVENT
UID:urbanonetwork-event-673
DTSTAMP:20150714T164500Z
ORGANIZER;CN=Rosie Slade:MAILTO:r.slade@ashfords.co.uk
STATUS:CONFIRMED
DTSTART:20150714T164500Z
DTEND:20150714T184500Z
LAST-MODIFIED:20161224T191405Z
LOCATION:Ashfords LLP, 1 New Fetter Lane, London, EC4A 1AN
SUMMARY:Preparing Your Business For Sale
URL:https://www.urbanonetwork.co.uk/london-networking-events/673/2015/07/14/preparing-your-business-for-sale
DESCRIPTION:Ashfords LLP and&amp;nbsp;Opus Mergers &amp;amp; Acquisitions would like to invite you to our joint seminar where we will be looking at the key stages and process involved when preparing your business for sale and how to navigate these successfully to maximise th
END:VEVENT
END:VCALENDAR