BEGIN:VCALENDAR
VERSION:2.0
PRODID:-//Urbanonetwork//NONSGML v1.0//EN
METHOD:PUBLISH
BEGIN:VEVENT
UID:urbanonetwork-event-689
DTSTAMP:20150725T080000Z
ORGANIZER;CN=Andy Coley:MAILTO:andy@theconfidenceexperts.com
STATUS:CONFIRMED
DTSTART:20150725T080000Z
DTEND:20150725T100000Z
LAST-MODIFIED:20161224T191405Z
LOCATION:Grand Connaught Rooms, 61 - 65 Great Queen Street, London, WC2B 5DA
SUMMARY:Want to build unshakeable confidence? (Day Two)
URL:https://www.urbanonetwork.co.uk/london-networking-events/689/2015/07/25/want-to-build-unshakeable-confidence-day-two
DESCRIPTION:Want to finally lose that horrible little voice in your head that always seems to show up to install self doubt?
END:VEVENT
END:VCALENDAR