BEGIN:VCALENDAR
VERSION:2.0
PRODID:-//Urbanonetwork//NONSGML v1.0//EN
METHOD:PUBLISH
BEGIN:VEVENT
UID:urbanonetwork-event-697
DTSTAMP:20150723T160000Z
ORGANIZER;CN=Celine Perez:MAILTO:celine.perez@lucidica.com
STATUS:CONFIRMED
DTSTART:20150723T160000Z
DTEND:20150723T180000Z
LAST-MODIFIED:20161224T191405Z
LOCATION:Lord&#039;s Cricket Ground, St John&#039;s Wood Rd, London, NW8 8QN
SUMMARY:London derby Middlesex vs Surrey at Lords T20 Blast
URL:https://www.urbanonetwork.co.uk/london-networking-events/697/2015/07/23/london-derby-middlesex-vs-surrey-at-lords-t20-blast
DESCRIPTION:Lucidica is sponsoring the London derby Middlesex vs Surrey at Lords T20 Blast &amp;ndash; &amp;nbsp;Kevin Pietersen vs Eoin Morgan*
END:VEVENT
END:VCALENDAR