BEGIN:VCALENDAR
VERSION:2.0
PRODID:-//Urbanonetwork//NONSGML v1.0//EN
METHOD:PUBLISH
BEGIN:VEVENT
UID:urbanonetwork-event-702
DTSTAMP:20151015T080000Z
ORGANIZER;CN=Bridge Training:MAILTO:info@insidebridge.com
STATUS:CONFIRMED
DTSTART:20151015T080000Z
DTEND:20151015T100000Z
LAST-MODIFIED:20161224T191405Z
LOCATION:Millennium Gloucester Hotel, 4-18 Harrington Gardens, London, SW7 4LH?
SUMMARY:BridgeCon2015: Hackathon
URL:https://www.urbanonetwork.co.uk/london-networking-events/702/2015/10/15/bridgecon2015-hackathon
DESCRIPTION:BridgeCon2015:&amp;nbsp;SOLUTIONS THAT CREATE A&amp;nbsp;SUSTAINABLE CUSTOMER EXPERIENCE
END:VEVENT
END:VCALENDAR