BEGIN:VCALENDAR
VERSION:2.0
PRODID:-//Urbanonetwork//NONSGML v1.0//EN
METHOD:PUBLISH
BEGIN:VEVENT
UID:urbanonetwork-event-727
DTSTAMP:20151015T083000Z
ORGANIZER;CN=Harriet  Calver:MAILTO:hcalver@wslaw.co.uk
STATUS:CONFIRMED
DTSTART:20151015T083000Z
DTEND:20151015T103000Z
LAST-MODIFIED:20161224T191405Z
LOCATION:Minerva House, 5 Montague Close, London, SE1 9BB
SUMMARY:Employment Law Training - Mock Tribunal
URL:https://www.urbanonetwork.co.uk/london-networking-events/727/2015/10/15/employment-law-training-mock-tribunal
DESCRIPTION:Thursday 15th&amp;nbsp;October 2015 | Registration and coffee9.00am | Start 09.30am | Finish 4.30pm
END:VEVENT
END:VCALENDAR