BEGIN:VCALENDAR
VERSION:2.0
PRODID:-//Urbanonetwork//NONSGML v1.0//EN
METHOD:PUBLISH
BEGIN:VEVENT
UID:urbanonetwork-event-731
DTSTAMP:20151218T093000Z
ORGANIZER;CN=Josie Falzone-Cobine:MAILTO:josie.falzone@sandler.com
STATUS:CONFIRMED
DTSTART:20151218T093000Z
DTEND:20151218T113000Z
LAST-MODIFIED:20161224T191405Z
LOCATION:The London Chamber of Commerce of Industry, 33 Queen Street, London, EC4R 1AP
SUMMARY:Business Development for the 21st Century...focusing  on both  salespeople and client service professionals&#039;
URL:https://www.urbanonetwork.co.uk/london-networking-events/731/2015/12/18/business-development-for-the-21st-century-focusing-on-both-salespeople-and-client-service-professionals
DESCRIPTION:This event is for a small group of select Managing Directors, CEOs and Senior Directors. PLEASE REGISTER YOUR INTEREST EARLY TO AVOID DISAPPOINTMENT
END:VEVENT
END:VCALENDAR