BEGIN:VCALENDAR
VERSION:2.0
PRODID:-//Urbanonetwork//NONSGML v1.0//EN
METHOD:PUBLISH
BEGIN:VEVENT
UID:urbanonetwork-event-732
DTSTAMP:20151020T080000Z
ORGANIZER;CN=Kate Marks:MAILTO:kate@evolutionhr.co.uk
STATUS:CONFIRMED
DTSTART:20151020T080000Z
DTEND:20151020T100000Z
LAST-MODIFIED:20161224T191405Z
LOCATION:Corney &amp; Barrow, 10 Paternoster Square, London, EC4M 7DX
SUMMARY:The Impact of Social Media at Work
URL:https://www.urbanonetwork.co.uk/london-networking-events/732/2015/10/20/the-impact-of-social-media-at-work
DESCRIPTION:We are delighted that GCS Recruitment Specialists have invited Kate Marks of EvolutionHR to speak alongside Piers Leigh-Politt and Dan Begbie-Clench of Doyle Clayton, at a series of HR seminars, this time focusing on &amp;lsquo;The Impact of Social Media at W
END:VEVENT
END:VCALENDAR