BEGIN:VCALENDAR
VERSION:2.0
PRODID:-//Urbanonetwork//NONSGML v1.0//EN
METHOD:PUBLISH
BEGIN:VEVENT
UID:urbanonetwork-event-739
DTSTAMP:20151117T180000Z
ORGANIZER;CN=Camilla Vann:MAILTO:camilla.vann@equisys.com
STATUS:CONFIRMED
DTSTART:20151117T180000Z
DTEND:20151117T200000Z
LAST-MODIFIED:20161224T191405Z
LOCATION:Vivat Bacchus, 47 Farringdon Street, London, EC4A 4LL
SUMMARY:Networking event: Wine Tasting
URL:https://www.urbanonetwork.co.uk/london-networking-events/739/2015/11/17/networking-event-wine-tasting
DESCRIPTION:
END:VEVENT
END:VCALENDAR