BEGIN:VCALENDAR
VERSION:2.0
PRODID:-//Urbanonetwork//NONSGML v1.0//EN
METHOD:PUBLISH
BEGIN:VEVENT
UID:urbanonetwork-event-740
DTSTAMP:20151119T170000Z
ORGANIZER;CN=Lauren Aston:MAILTO:lauren@raffingers.co.uk
STATUS:CONFIRMED
DTSTART:20151119T170000Z
DTEND:20151119T190000Z
LAST-MODIFIED:20161224T191405Z
LOCATION:APEX London Wall Hotel, APEX London Wall Hotel, London, EC2R 7NJ
SUMMARY:An Introduction to Alternative Finance
URL:https://www.urbanonetwork.co.uk/london-networking-events/740/2015/11/19/an-introduction-to-alternative-finance
DESCRIPTION:We are pleased to invite you to our exclusive&amp;nbsp;event on alternative finance&amp;nbsp;taking place at APEX London Wall Hotel.
END:VEVENT
END:VCALENDAR