BEGIN:VCALENDAR
VERSION:2.0
PRODID:-//Urbanonetwork//NONSGML v1.0//EN
METHOD:PUBLISH
BEGIN:VEVENT
UID:urbanonetwork-event-814
DTSTAMP:20160323T174500Z
ORGANIZER;CN=Lauren Aston:MAILTO:lauren@raffingers.co.uk
STATUS:CONFIRMED
DTSTART:20160323T174500Z
DTEND:20160323T194500Z
LAST-MODIFIED:20161224T191406Z
LOCATION:Raffingers, Raffinger Ltd, Woodford Green, IG8 8HD
SUMMARY:Cloud Open Evening
URL:https://www.urbanonetwork.co.uk/london-networking-events/814/2016/03/23/cloud-open-evening
DESCRIPTION:Drop in to our Woodford Green office on Wednesday 23 March and receive one to one support on your cloud accounting software.
END:VEVENT
END:VCALENDAR