BEGIN:VCALENDAR
VERSION:2.0
PRODID:-//Urbanonetwork//NONSGML v1.0//EN
METHOD:PUBLISH
BEGIN:VEVENT
UID:urbanonetwork-event-828
DTSTAMP:20160427T070000Z
ORGANIZER;CN=Barry Dass:MAILTO:b.dass@davenportsolicitors.com
STATUS:CONFIRMED
DTSTART:20160427T070000Z
DTEND:20160427T090000Z
LAST-MODIFIED:20161224T191406Z
LOCATION:Corney and Barrow, 10 Paternoster Square, London, EC4M 7DX
SUMMARY:Breakfast and Employment Law Seminar
URL:https://www.urbanonetwork.co.uk/london-networking-events/828/2016/04/27/breakfast-and-employment-law-seminar
DESCRIPTION:Davenport Solicitors Employment Law update:
END:VEVENT
END:VCALENDAR