BEGIN:VCALENDAR
VERSION:2.0
PRODID:-//Urbanonetwork//NONSGML v1.0//EN
METHOD:PUBLISH
BEGIN:VEVENT
UID:urbanonetwork-event-838
DTSTAMP:20160506T073000Z
ORGANIZER;CN=Elizabeth Faichney:MAILTO:elizabeth@theclubhouselondon.com
STATUS:CONFIRMED
DTSTART:20160506T073000Z
DTEND:20160506T093000Z
LAST-MODIFIED:20161224T191406Z
LOCATION:The Clubhouse 50 Grosvenor Hill, 50 Grosvenor Hill, London, W1K 3QT
SUMMARY:&#039;Creating Winning Teams&#039; Breakfast with Jeremy Snape
URL:https://www.urbanonetwork.co.uk/london-networking-events/838/2016/05/06/creating-winning-teams-breakfast-with-jeremy-snape
DESCRIPTION:
END:VEVENT
END:VCALENDAR