BEGIN:VCALENDAR
VERSION:2.0
PRODID:-//Urbanonetwork//NONSGML v1.0//EN
METHOD:PUBLISH
BEGIN:VEVENT
UID:urbanonetwork-event-861
DTSTAMP:20160703T110000Z
ORGANIZER;CN=Sabrina Nixon:MAILTO:Sabrina.Nixon@willowfoundation.org.uk
STATUS:CONFIRMED
DTSTART:20160703T110000Z
DTEND:20160703T130000Z
LAST-MODIFIED:20161224T191406Z
LOCATION:Woollams Playing Fields, 160 Harpenden Rd, St Albans, AL3 6BB
SUMMARY:You&#039;re invited: Pro Celebrity Cricket Match
URL:https://www.urbanonetwork.co.uk/london-networking-events/861/2016/07/03/you-re-invited-pro-celebrity-cricket-match
DESCRIPTION:Don&#039;t miss out on this fantastic opportunity to witness an afternoon of pro celebrity cricket as Willow take on Lord&amp;rsquo;s Taverners. The teams of celebrities and sportsmen will be led by Chris Tarrant OBE and Bob Wilson OBE and you can be sure of great
END:VEVENT
END:VCALENDAR