BEGIN:VCALENDAR
VERSION:2.0
PRODID:-//Urbanonetwork//NONSGML v1.0//EN
METHOD:PUBLISH
BEGIN:VEVENT
UID:urbanonetwork-event-891
DTSTAMP:20160709T230000Z
ORGANIZER;CN=Tissem  EL GNAOUI:MAILTO:tissem.elgnaoui@londoncapitalclub.com
STATUS:CONFIRMED
DTSTART:20160709T230000Z
DTEND:20160710T010000Z
LAST-MODIFIED:20161224T191406Z
LOCATION:London Capital Club, 15 Abchurch Lane, London, EC4N 7BW
SUMMARY:Euro 2016: Private Hire and Broadcasting at the London Capital Club
URL:https://www.urbanonetwork.co.uk/london-networking-events/891/2016/07/10/euro-2016-private-hire-and-broadcasting-at-the-london-capital-club
DESCRIPTION:From 10th of June to 10th of July, London Capital Club&amp;nbsp;presents a private Soccer Lounge broadcasting matches for friends, colleagues and football fans alike. Individuals, clients and corporate companies can&amp;nbsp;privatise&amp;nbsp;one of our event spaces
END:VEVENT
END:VCALENDAR