BEGIN:VCALENDAR
VERSION:2.0
PRODID:-//Urbanonetwork//NONSGML v1.0//EN
METHOD:PUBLISH
BEGIN:VEVENT
UID:urbanonetwork-event-904
DTSTAMP:20160929T073000Z
ORGANIZER;CN=Kay Merryman:MAILTO:kmerryman@abggroup.co.uk
STATUS:CONFIRMED
DTSTART:20160929T073000Z
DTEND:20160929T093000Z
LAST-MODIFIED:20161224T191406Z
LOCATION:Arram Berlyn Gardner (ABG), Arram Berlyn Gardner, London, EC1Y 2AB
SUMMARY:10 Top reasons to outsource your accounting and payroll
URL:https://www.urbanonetwork.co.uk/london-networking-events/904/2016/09/29/10-top-reasons-to-outsource-your-accounting-and-payroll
DESCRIPTION:We estimate that the average SME spends in excess of 40 hours working in their business rather than on it! If you are looking for ways to grow your business&#039;s bottom-line, then outsourcing your accounting and payroll function is one of the easiest busines
END:VEVENT
END:VCALENDAR