BEGIN:VCALENDAR
VERSION:2.0
PRODID:-//Urbanonetwork//NONSGML v1.0//EN
METHOD:PUBLISH
BEGIN:VEVENT
UID:urbanonetwork-event-909
DTSTAMP:20160819T160000Z
ORGANIZER;CN=Vanessa  Zamora:MAILTO:Vanessa.Zamora@novusleisure.com
STATUS:CONFIRMED
DTSTART:20160819T160000Z
DTEND:20160819T180000Z
LAST-MODIFIED:20161224T191406Z
LOCATION:Gem Bar Soho, 10 Beak Street, London, W1F 9RA
SUMMARY:24 Hour Tube and Summer Party
URL:https://www.urbanonetwork.co.uk/london-networking-events/909/2016/08/19/24-hour-tube-and-summer-party
DESCRIPTION:Join us at Gem bar on August 19th to celebrate the tube going 24 Hours!
END:VEVENT
END:VCALENDAR