BEGIN:VCALENDAR
VERSION:2.0
PRODID:-//Urbanonetwork//NONSGML v1.0//EN
METHOD:PUBLISH
BEGIN:VEVENT
UID:urbanonetwork-event-943
DTSTAMP:20161021T113000Z
ORGANIZER;CN=Mark Herring:MAILTO:mark@urbanonetwork.co.uk
STATUS:CONFIRMED
DTSTART:20161021T113000Z
DTEND:20161021T133000Z
LAST-MODIFIED:20161224T191406Z
LOCATION:Avenue 31, 31, Avenue Princesse Grace, Monaco, 98000
SUMMARY:Urbano Monaco Networking Lunch
URL:https://www.urbanonetwork.co.uk/london-networking-events/943/2016/10/21/urbano-monaco-networking-lunch
DESCRIPTION:Urbano Monaco Networking Lunch at the contemporary and elegant Avenue 31 Restaurant on Friday October 21st
END:VEVENT
END:VCALENDAR