BEGIN:VCALENDAR
VERSION:2.0
PRODID:-//Urbanonetwork//NONSGML v1.0//EN
METHOD:PUBLISH
BEGIN:VEVENT
UID:urbanonetwork-event-964
DTSTAMP:20161031T090000Z
ORGANIZER;CN=Lee Hutton:MAILTO:lee@sleepinggiantmedia.co.uk
STATUS:CONFIRMED
DTSTART:20161031T090000Z
DTEND:20161031T110000Z
LAST-MODIFIED:20161224T191406Z
LOCATION:Sleeping Giant Media Folkestone, Floor 7, The Civic Centre, Folkestone, CT20 2QY
SUMMARY:‘Find My Website’ an introduction to Search Engine Optimisation (SEO)
URL:https://www.urbanonetwork.co.uk/london-networking-events/964/2016/10/31/find-my-website-an-introduction-to-search-engine-optimisation-seo
DESCRIPTION:This course provides you with an excellent foundation for understanding exactly what SEO is, how it works and most importantly, how it can help potential customers find your website.
END:VEVENT
END:VCALENDAR