BEGIN:VCALENDAR
VERSION:2.0
PRODID:-//Urbanonetwork//NONSGML v1.0//EN
METHOD:PUBLISH
BEGIN:VEVENT
UID:urbanonetwork-event-970
DTSTAMP:20161012T180000Z
ORGANIZER;CN=Julia Lambeth:MAILTO:info@southlondonwineschool.com
STATUS:CONFIRMED
DTSTART:20161012T180000Z
DTEND:20161012T200000Z
LAST-MODIFIED:20161224T191406Z
LOCATION:The Mitre, Greenwich, 291 Greenwich High Road, London, Se10 8NA
SUMMARY:Introduction to Wine Tasting
URL:https://www.urbanonetwork.co.uk/london-networking-events/970/2016/10/12/introduction-to-wine-tasting
DESCRIPTION:South London Wine School present an evening for the novice wine fan! If you like wine but have never really been sure where to start when trying to learn more, then this is the perfect evening for you!
END:VEVENT
END:VCALENDAR