BEGIN:VCALENDAR
VERSION:2.0
PRODID:-//Urbanonetwork//NONSGML v1.0//EN
METHOD:PUBLISH
BEGIN:VEVENT
UID:urbanonetwork-event-974
DTSTAMP:20161118T090000Z
ORGANIZER;CN=Sara Doucette:MAILTO:sara.doucette@wazoku.com
STATUS:CONFIRMED
DTSTART:20161118T090000Z
DTEND:20161118T110000Z
LAST-MODIFIED:20161224T191406Z
LOCATION:Digital Garage, 33-35 Hoxton Square, London, N1 6NN
SUMMARY:Differentiated Innovation - putting the customer at the heart of your innovation strategy
URL:https://www.urbanonetwork.co.uk/london-networking-events/974/2016/11/18/differentiated-innovation-putting-the-customer-at-the-heart-of-your-innovation-strategy
DESCRIPTION:Wazoku invites you to our next panel discussion in the EveryDay Innovation Series including panelists from Sopra Steria, Aviva and Fidelity.&amp;nbsp;
END:VEVENT
END:VCALENDAR