BEGIN:VCALENDAR
VERSION:2.0
PRODID:-//Urbanonetwork//NONSGML v1.0//EN
METHOD:PUBLISH
BEGIN:VEVENT
UID:urbanonetwork-event-975
DTSTAMP:20161122T093000Z
ORGANIZER;CN=Ellen  Bowers:MAILTO:ellen.bowers@lucidica.com
STATUS:CONFIRMED
DTSTART:20161122T093000Z
DTEND:20161122T113000Z
LAST-MODIFIED:20161224T191406Z
LOCATION:Lucidica, Accelerator London, 35 Kingsland Road, London, E2 8AA
SUMMARY:The Seminar Cyber Criminals Don’t Want You To Attend!
URL:https://www.urbanonetwork.co.uk/london-networking-events/975/2016/11/22/the-seminar-cyber-criminals-don-t-want-you-to-attend
DESCRIPTION:Join us for our free breakfast seminar to find out what you can do to protect your business from the latest digital threats including;
END:VEVENT
END:VCALENDAR