BEGIN:VCALENDAR
VERSION:2.0
PRODID:-//Urbanonetwork//NONSGML v1.0//EN
METHOD:PUBLISH
BEGIN:VEVENT
UID:urbanonetwork-event-995
DTSTAMP:20170209T080000Z
ORGANIZER;CN=Mark Herring:MAILTO:mark@urbanonetwork.co.uk
STATUS:CONFIRMED
DTSTART:20170209T080000Z
DTEND:20170209T100000Z
LAST-MODIFIED:20170209T093405Z
LOCATION:Smith &amp; Williamson, 25 Moorgate, London, EC2R 6AY
SUMMARY:Urbano Build Networking Event - BIM and Smart Cities with Andrew Pryke, BAM
URL:https://www.urbanonetwork.co.uk/london-networking-events/995/2017/02/09/urbano-build-networking-event-bim-and-smart-cities-with-andrew-pryke-bam
DESCRIPTION:Urbano Build networking breakfast event on Smart Cities, BIM, VR/AR and the use of tech in construction with Andrew Pryke of BAM Design
END:VEVENT
END:VCALENDAR